Package: SVP Version: 1.2.1 Command: /Library/Frameworks/R.framework/Resources/bin/R CMD INSTALL SVP StartedAt: 2025-11-17 17:29:46 -0500 (Mon, 17 Nov 2025) EndedAt: 2025-11-17 17:30:35 -0500 (Mon, 17 Nov 2025) EllapsedTime: 49.3 seconds RetCode: 0 Status: OK