Package: SVP Version: 1.2.1 Command: /Library/Frameworks/R.framework/Resources/bin/R CMD build --keep-empty-dirs --no-resave-data SVP StartedAt: 2025-11-18 01:40:11 -0500 (Tue, 18 Nov 2025) EndedAt: 2025-11-18 01:42:34 -0500 (Tue, 18 Nov 2025) EllapsedTime: 142.3 seconds RetCode: 0 Status: OK PackageFile: SVP_1.2.1.tar.gz PackageFileSize: 4.64 MiB