Package: SVP Version: 1.2.1 Command: rm -rf SVP.buildbin-libdir && mkdir SVP.buildbin-libdir && /Users/biocbuild/BBS/utils/build-universal.sh SVP_1.2.1.tar.gz /Library/Frameworks/R.framework/Resources/bin/R SVP.buildbin-libdir StartedAt: 2025-11-18 16:31:09 -0500 (Tue, 18 Nov 2025) EndedAt: 2025-11-18 16:32:13 -0500 (Tue, 18 Nov 2025) EllapsedTime: 63.9 seconds RetCode: 0 Status: OK PackageFile: SVP_1.2.1.tgz PackageFileSize: 5.28 MiB