Package: STRINGdb Version: 2.21.0 Command: /Library/Frameworks/R.framework/Resources/bin/R CMD INSTALL STRINGdb StartedAt: 2025-10-21 15:15:19 -0400 (Tue, 21 Oct 2025) EndedAt: 2025-10-21 15:15:51 -0400 (Tue, 21 Oct 2025) EllapsedTime: 32.0 seconds RetCode: 0 Status: OK