Package: STRINGdb Version: 2.21.0 Command: /Library/Frameworks/R.framework/Resources/bin/R CMD build --keep-empty-dirs --no-resave-data STRINGdb StartedAt: 2025-10-21 19:45:22 -0400 (Tue, 21 Oct 2025) EndedAt: 2025-10-21 19:50:06 -0400 (Tue, 21 Oct 2025) EllapsedTime: 283.4 seconds RetCode: 0 Status: OK PackageFile: STRINGdb_2.21.0.tar.gz PackageFileSize: 9.949 MiB