Package: STATegRa Version: 1.45.0 Command: /home/biocbuild/bbs-3.22-bioc/R/bin/R CMD build --keep-empty-dirs --no-resave-data --md5 STATegRa StartedAt: 2025-10-03 20:19:35 -0400 (Fri, 03 Oct 2025) EndedAt: 2025-10-03 20:21:28 -0400 (Fri, 03 Oct 2025) EllapsedTime: 113.1 seconds RetCode: 0 Status: OK PackageFile: STATegRa_1.45.0.tar.gz PackageFileSize: 4.945 MiB