Package: STADyUM Version: 0.99.4 Command: /home/biocbuild/R/R/bin/R CMD check --install=check:STADyUM.install-out.txt --library=/home/biocbuild/R/R/site-library --no-vignettes --timings STADyUM_0.99.4.tar.gz StartedAt: 2025-10-17 14:09:56 -0000 (Fri, 17 Oct 2025) EndedAt: 2025-10-17 14:22:08 -0000 (Fri, 17 Oct 2025) EllapsedTime: 732.7 seconds RetCode: 0 Status: OK CheckDir: STADyUM.Rcheck Warnings: 0