Package: STADyUM Version: 0.99.4 Command: /home/biocbuild/bbs-3.22-bioc/R/bin/R CMD INSTALL STADyUM StartedAt: 2025-10-20 15:32:26 -0400 (Mon, 20 Oct 2025) EndedAt: 2025-10-20 15:33:11 -0400 (Mon, 20 Oct 2025) EllapsedTime: 44.3 seconds RetCode: 0 Status: OK