Package: STADyUM Version: 0.99.4 Command: /home/biocbuild/bbs-3.22-bioc/R/bin/R CMD build --keep-empty-dirs --no-resave-data --md5 STADyUM StartedAt: 2025-10-20 20:17:09 -0400 (Mon, 20 Oct 2025) EndedAt: 2025-10-20 20:19:01 -0400 (Mon, 20 Oct 2025) EllapsedTime: 112.1 seconds RetCode: 0 Status: OK PackageFile: STADyUM_0.99.4.tar.gz PackageFileSize: 2.791 MiB