Package: STADyUM Version: 0.99.4 Command: /Library/Frameworks/R.framework/Resources/bin/R CMD INSTALL STADyUM StartedAt: 2025-10-21 15:34:53 -0400 (Tue, 21 Oct 2025) EndedAt: 2025-10-21 15:35:52 -0400 (Tue, 21 Oct 2025) EllapsedTime: 59.3 seconds RetCode: 0 Status: OK