Package: STADyUM Version: 0.99.4 Command: /Library/Frameworks/R.framework/Resources/bin/R CMD check --install=check:STADyUM.install-out.txt --library=/Library/Frameworks/R.framework/Resources/library --no-vignettes --timings STADyUM_0.99.4.tar.gz StartedAt: 2025-10-22 01:22:54 -0400 (Wed, 22 Oct 2025) EndedAt: 2025-10-22 01:32:32 -0400 (Wed, 22 Oct 2025) EllapsedTime: 577.9 seconds RetCode: 0 Status: OK CheckDir: STADyUM.Rcheck Warnings: 0