Package: STADyUM Version: 0.99.4 Command: /Library/Frameworks/R.framework/Resources/bin/R CMD check --install=check:STADyUM.install-out.txt --library=/Library/Frameworks/R.framework/Resources/library --no-vignettes --timings STADyUM_0.99.4.tar.gz StartedAt: 2025-10-22 22:18:43 -0400 (Wed, 22 Oct 2025) EndedAt: 2025-10-22 22:21:57 -0400 (Wed, 22 Oct 2025) EllapsedTime: 194.2 seconds RetCode: 0 Status: OK CheckDir: STADyUM.Rcheck Warnings: 0