Package: STADyUM Version: 0.99.4 Maintainer: Rebecca Hassett MaintainerEmail: hassett at cshl.edu git_url: https://git.bioconductor.org/packages/STADyUM git_branch: devel git_last_commit: b71dd9e git_last_commit_date: 2025-10-12 00:15:56 -0400 (Sun, 12 Oct 2025)