Package: SRAdb Version: 1.71.0 Command: /Library/Frameworks/R.framework/Resources/bin/R CMD INSTALL SRAdb StartedAt: 2025-10-23 15:14:20 -0400 (Thu, 23 Oct 2025) EndedAt: 2025-10-23 15:14:28 -0400 (Thu, 23 Oct 2025) EllapsedTime: 7.8 seconds RetCode: 0 Status: OK