Package: SRAdb Version: 1.71.0 Command: /Library/Frameworks/R.framework/Resources/bin/R CMD check --install=check:SRAdb.install-out.txt --library=/Library/Frameworks/R.framework/Resources/library --no-vignettes --timings SRAdb_1.71.0.tar.gz StartedAt: 2025-10-25 00:36:27 -0400 (Sat, 25 Oct 2025) EndedAt: 2025-10-25 00:37:07 -0400 (Sat, 25 Oct 2025) EllapsedTime: 39.8 seconds RetCode: 0 Status: OK CheckDir: SRAdb.Rcheck Warnings: 0