Package: SQLDataFrame Version: 1.23.0 Command: /home/biocbuild/R/R/bin/R CMD build --keep-empty-dirs --no-resave-data SQLDataFrame StartedAt: 2025-10-17 04:56:44 -0000 (Fri, 17 Oct 2025) EndedAt: 2025-10-17 04:57:20 -0000 (Fri, 17 Oct 2025) EllapsedTime: 36.0 seconds RetCode: 0 Status: OK PackageFile: SQLDataFrame_1.23.0.tar.gz PackageFileSize: 261 KiB