Package: SQLDataFrame Version: 1.23.0 Command: /home/biocbuild/bbs-3.22-bioc/R/bin/R CMD check --install=check:SQLDataFrame.install-out.txt --library=/home/biocbuild/bbs-3.22-bioc/R/site-library --timings SQLDataFrame_1.23.0.tar.gz StartedAt: 2025-10-20 05:19:25 -0400 (Mon, 20 Oct 2025) EndedAt: 2025-10-20 05:21:59 -0400 (Mon, 20 Oct 2025) EllapsedTime: 154.1 seconds RetCode: 1 Status: ERROR CheckDir: SQLDataFrame.Rcheck Warnings: NA