Package: SQLDataFrame Version: 1.23.0 Command: /home/biocbuild/bbs-3.22-bioc/R/bin/R CMD build --keep-empty-dirs --no-resave-data --md5 SQLDataFrame StartedAt: 2025-10-19 20:18:35 -0400 (Sun, 19 Oct 2025) EndedAt: 2025-10-19 20:19:01 -0400 (Sun, 19 Oct 2025) EllapsedTime: 26.0 seconds RetCode: 0 Status: OK PackageFile: SQLDataFrame_1.23.0.tar.gz PackageFileSize: 235.6 KiB