Package: SQLDataFrame Version: 1.23.0 Command: /Library/Frameworks/R.framework/Resources/bin/R CMD INSTALL SQLDataFrame StartedAt: 2025-10-19 15:08:08 -0400 (Sun, 19 Oct 2025) EndedAt: 2025-10-19 15:08:15 -0400 (Sun, 19 Oct 2025) EllapsedTime: 7.2 seconds RetCode: 0 Status: OK