Package: SQLDataFrame Version: 1.23.0 Command: /Library/Frameworks/R.framework/Resources/bin/R CMD build --keep-empty-dirs --no-resave-data SQLDataFrame StartedAt: 2025-10-19 17:50:26 -0400 (Sun, 19 Oct 2025) EndedAt: 2025-10-19 17:50:37 -0400 (Sun, 19 Oct 2025) EllapsedTime: 11.1 seconds RetCode: 0 Status: OK PackageFile: SQLDataFrame_1.23.0.tar.gz PackageFileSize: 234.9 KiB