Package: SPIA Version: 2.61.0 Command: /Library/Frameworks/R.framework/Resources/bin/R CMD INSTALL SPIA StartedAt: 2025-10-22 15:28:55 -0400 (Wed, 22 Oct 2025) EndedAt: 2025-10-22 15:29:02 -0400 (Wed, 22 Oct 2025) EllapsedTime: 7.3 seconds RetCode: 0 Status: OK