Package: SPIA Version: 2.61.0 Command: /Library/Frameworks/R.framework/Resources/bin/R CMD check --install=check:SPIA.install-out.txt --library=/Library/Frameworks/R.framework/Resources/library --no-vignettes --timings SPIA_2.61.0.tar.gz StartedAt: 2025-10-24 00:25:41 -0400 (Fri, 24 Oct 2025) EndedAt: 2025-10-24 00:31:36 -0400 (Fri, 24 Oct 2025) EllapsedTime: 354.9 seconds RetCode: 0 Status: OK CheckDir: SPIA.Rcheck Warnings: 0