Package: SPIA Version: 2.61.0 Command: /Library/Frameworks/R.framework/Resources/bin/R CMD build --keep-empty-dirs --no-resave-data SPIA StartedAt: 2025-10-22 18:49:24 -0400 (Wed, 22 Oct 2025) EndedAt: 2025-10-22 18:54:45 -0400 (Wed, 22 Oct 2025) EllapsedTime: 321.1 seconds RetCode: 0 Status: OK PackageFile: SPIA_2.61.0.tar.gz PackageFileSize: 2.548 MiB