Package: SPIA Version: 2.61.0 Command: /Library/Frameworks/R.framework/Resources/bin/R CMD check --install=check:SPIA.install-out.txt --library=/Library/Frameworks/R.framework/Resources/library --no-vignettes --timings SPIA_2.61.0.tar.gz StartedAt: 2025-10-21 22:15:16 -0400 (Tue, 21 Oct 2025) EndedAt: 2025-10-21 22:17:44 -0400 (Tue, 21 Oct 2025) EllapsedTime: 147.7 seconds RetCode: 0 Status: OK CheckDir: SPIA.Rcheck Warnings: 0