Package: SOMNiBUS Version: 1.18.0 Command: /home/biocbuild/bbs-3.22-bioc/R/bin/R CMD INSTALL SOMNiBUS StartedAt: 2025-11-14 15:45:52 -0500 (Fri, 14 Nov 2025) EndedAt: 2025-11-14 15:46:43 -0500 (Fri, 14 Nov 2025) EllapsedTime: 51.4 seconds RetCode: 0 Status: OK