Package: SOMNiBUS Version: 1.18.0 Command: /home/biocbuild/bbs-3.22-bioc/R/bin/R CMD check --install=check:SOMNiBUS.install-out.txt --library=/home/biocbuild/bbs-3.22-bioc/R/site-library --timings SOMNiBUS_1.18.0.tar.gz StartedAt: 2025-11-15 04:35:26 -0500 (Sat, 15 Nov 2025) EndedAt: 2025-11-15 04:53:55 -0500 (Sat, 15 Nov 2025) EllapsedTime: 1108.9 seconds RetCode: 0 Status: OK CheckDir: SOMNiBUS.Rcheck Warnings: 0