Package: SOMNiBUS Version: 1.17.0 Command: /Library/Frameworks/R.framework/Resources/bin/R CMD INSTALL SOMNiBUS StartedAt: 2025-10-03 15:37:00 -0400 (Fri, 03 Oct 2025) EndedAt: 2025-10-03 15:38:07 -0400 (Fri, 03 Oct 2025) EllapsedTime: 67.2 seconds RetCode: 0 Status: OK