Package: SNPhood Version: 1.40.0 Command: /Library/Frameworks/R.framework/Resources/bin/R CMD INSTALL SNPhood StartedAt: 2025-10-31 15:45:06 -0400 (Fri, 31 Oct 2025) EndedAt: 2025-10-31 15:46:35 -0400 (Fri, 31 Oct 2025) EllapsedTime: 89.4 seconds RetCode: 0 Status: OK