Package: SNPRelate Version: 1.43.0 Command: rm -rf SNPRelate.buildbin-libdir && mkdir SNPRelate.buildbin-libdir && F:\biocbuild\bbs-3.22-bioc\R\bin\R.exe CMD INSTALL --build --library=SNPRelate.buildbin-libdir SNPRelate_1.43.0.tar.gz StartedAt: 2025-08-15 11:22:11 -0400 (Fri, 15 Aug 2025) EndedAt: 2025-08-15 11:23:48 -0400 (Fri, 15 Aug 2025) EllapsedTime: 97.7 seconds RetCode: 0 Status: OK PackageFile: SNPRelate_1.43.0.zip PackageFileSize: 2.681 MiB