Package: SNPRelate Version: 1.44.0 Command: /home/biocbuild/bbs-3.22-bioc/R/bin/R CMD check --install=check:SNPRelate.install-out.txt --library=/home/biocbuild/bbs-3.22-bioc/R/site-library --timings SNPRelate_1.44.0.tar.gz StartedAt: 2025-11-15 04:33:34 -0500 (Sat, 15 Nov 2025) EndedAt: 2025-11-15 04:35:26 -0500 (Sat, 15 Nov 2025) EllapsedTime: 112.1 seconds RetCode: 0 Status: OK CheckDir: SNPRelate.Rcheck Warnings: 0