Package: SNPRelate Version: 1.44.0 Maintainer: Xiuwen Zheng MaintainerEmail: zhengx at u.washington.edu git_url: https://git.bioconductor.org/packages/SNPRelate git_branch: RELEASE_3_22 git_last_commit: 50237e4 git_last_commit_date: 2025-10-29 10:21:20 -0500 (Wed, 29 Oct 2025)