Package: SNAGEE Version: 1.49.0 Command: /home/biocbuild/R/R/bin/R CMD INSTALL SNAGEE StartedAt: 2025-10-16 21:11:00 -0000 (Thu, 16 Oct 2025) EndedAt: 2025-10-16 21:11:36 -0000 (Thu, 16 Oct 2025) EllapsedTime: 36.2 seconds RetCode: 0 Status: OK