Package: SNAGEE Version: 1.49.0 Command: /home/biocbuild/R/R/bin/R CMD check --install=check:SNAGEE.install-out.txt --library=/home/biocbuild/R/R/site-library --no-vignettes --timings SNAGEE_1.49.0.tar.gz StartedAt: 2025-10-17 13:48:55 -0000 (Fri, 17 Oct 2025) EndedAt: 2025-10-17 13:51:34 -0000 (Fri, 17 Oct 2025) EllapsedTime: 159.3 seconds RetCode: 0 Status: OK CheckDir: SNAGEE.Rcheck Warnings: 0