Package: SNAGEE Version: 1.49.0 Command: F:\biocbuild\bbs-3.22-bioc\R\bin\R.exe CMD check --no-multiarch --install=check:SNAGEE.install-out.txt --library=F:\biocbuild\bbs-3.22-bioc\R\library --no-vignettes --timings SNAGEE_1.49.0.tar.gz StartedAt: 2025-08-15 08:03:00 -0400 (Fri, 15 Aug 2025) EndedAt: 2025-08-15 08:03:59 -0400 (Fri, 15 Aug 2025) EllapsedTime: 59.5 seconds RetCode: 0 Status: OK CheckDir: SNAGEE.Rcheck Warnings: 0