Package: SNAGEE Version: 1.49.0 Command: rm -rf SNAGEE.buildbin-libdir && mkdir SNAGEE.buildbin-libdir && /Users/biocbuild/BBS/utils/build-universal.sh SNAGEE_1.49.0.tar.gz /Library/Frameworks/R.framework/Resources/bin/R SNAGEE.buildbin-libdir StartedAt: 2025-10-18 03:23:44 -0400 (Sat, 18 Oct 2025) EndedAt: 2025-10-18 03:23:49 -0400 (Sat, 18 Oct 2025) EllapsedTime: 5.7 seconds RetCode: 0 Status: OK PackageFile: SNAGEE_1.49.0.tgz PackageFileSize: 186.9 KiB