Package: SNAGEE Version: 1.49.0 Command: /Library/Frameworks/R.framework/Resources/bin/R CMD check --install=check:SNAGEE.install-out.txt --library=/Library/Frameworks/R.framework/Resources/library --no-vignettes --timings SNAGEE_1.49.0.tar.gz StartedAt: 2025-10-19 22:07:01 -0400 (Sun, 19 Oct 2025) EndedAt: 2025-10-19 22:07:16 -0400 (Sun, 19 Oct 2025) EllapsedTime: 15.2 seconds RetCode: 0 Status: OK CheckDir: SNAGEE.Rcheck Warnings: 0