Package: SNAGEE Version: 1.49.0 Command: /Library/Frameworks/R.framework/Resources/bin/R CMD build --keep-empty-dirs --no-resave-data SNAGEE StartedAt: 2025-10-19 17:45:11 -0400 (Sun, 19 Oct 2025) EndedAt: 2025-10-19 17:45:27 -0400 (Sun, 19 Oct 2025) EllapsedTime: 16.2 seconds RetCode: 0 Status: OK PackageFile: SNAGEE_1.49.0.tar.gz PackageFileSize: 169.3 KiB