Package: SNAGEE Version: 1.49.0 Command: rm -rf SNAGEE.buildbin-libdir && mkdir SNAGEE.buildbin-libdir && /Users/biocbuild/BBS/utils/build-universal.sh SNAGEE_1.49.0.tar.gz /Library/Frameworks/R.framework/Resources/bin/R SNAGEE.buildbin-libdir StartedAt: 2025-10-17 23:26:28 -0400 (Fri, 17 Oct 2025) EndedAt: 2025-10-17 23:26:30 -0400 (Fri, 17 Oct 2025) EllapsedTime: 2.0 seconds RetCode: 0 Status: OK PackageFile: SNAGEE_1.49.0.tgz PackageFileSize: 187.5 KiB