Package: SNAGEE Version: 1.49.0 Maintainer: David Venet MaintainerEmail: davenet at ulb.ac.be git_url: https://git.bioconductor.org/packages/SNAGEE git_branch: devel git_last_commit: f90f72b git_last_commit_date: 2025-04-15 10:16:29 -0400 (Tue, 15 Apr 2025)