Package: SMAD Version: 1.26.0 Command: /home/biocbuild/R/R/bin/R CMD INSTALL SMAD StartedAt: 2025-11-17 21:12:59 -0000 (Mon, 17 Nov 2025) EndedAt: 2025-11-17 21:13:24 -0000 (Mon, 17 Nov 2025) EllapsedTime: 25.2 seconds RetCode: 0 Status: OK