Package: SMAD Version: 1.26.0 Command: /home/biocbuild/R/R/bin/R CMD check --install=check:SMAD.install-out.txt --library=/home/biocbuild/R/R/site-library --no-vignettes --timings SMAD_1.26.0.tar.gz StartedAt: 2025-11-18 15:18:00 -0000 (Tue, 18 Nov 2025) EndedAt: 2025-11-18 15:19:04 -0000 (Tue, 18 Nov 2025) EllapsedTime: 64.1 seconds RetCode: 0 Status: WARNINGS CheckDir: SMAD.Rcheck Warnings: 4