Package: SMAD Version: 1.26.0 Command: /Library/Frameworks/R.framework/Resources/bin/R CMD check --install=check:SMAD.install-out.txt --library=/Library/Frameworks/R.framework/Resources/library --no-vignettes --timings SMAD_1.26.0.tar.gz StartedAt: 2025-11-18 13:14:08 -0500 (Tue, 18 Nov 2025) EndedAt: 2025-11-18 13:14:36 -0500 (Tue, 18 Nov 2025) EllapsedTime: 28.2 seconds RetCode: 0 Status: WARNINGS CheckDir: SMAD.Rcheck Warnings: 1