Package: SMAD Version: 1.26.0 Command: rm -rf SMAD.buildbin-libdir && mkdir SMAD.buildbin-libdir && /Users/biocbuild/BBS/utils/build-universal.sh SMAD_1.26.0.tar.gz /Library/Frameworks/R.framework/Resources/bin/R SMAD.buildbin-libdir StartedAt: 2025-11-18 16:26:51 -0500 (Tue, 18 Nov 2025) EndedAt: 2025-11-18 16:26:58 -0500 (Tue, 18 Nov 2025) EllapsedTime: 7.1 seconds RetCode: 0 Status: OK PackageFile: SMAD_1.26.0.tgz PackageFileSize: 469.2 KiB