Package: SIM Version: 1.79.0 Command: /home/biocbuild/R/R/bin/R CMD INSTALL SIM StartedAt: 2025-10-20 20:42:25 -0000 (Mon, 20 Oct 2025) EndedAt: 2025-10-20 20:42:50 -0000 (Mon, 20 Oct 2025) EllapsedTime: 24.5 seconds RetCode: 0 Status: OK