Package: SIM Version: 1.79.0 Command: /home/biocbuild/R/R/bin/R CMD check --install=check:SIM.install-out.txt --library=/home/biocbuild/R/R/site-library --no-vignettes --timings SIM_1.79.0.tar.gz StartedAt: 2025-10-17 13:41:41 -0000 (Fri, 17 Oct 2025) EndedAt: 2025-10-17 13:44:50 -0000 (Fri, 17 Oct 2025) EllapsedTime: 189.3 seconds RetCode: 0 Status: WARNINGS CheckDir: SIM.Rcheck Warnings: 1