Package: SIM Version: 1.79.0 Command: /home/biocbuild/R/R/bin/R CMD build --keep-empty-dirs --no-resave-data SIM StartedAt: 2025-10-21 03:11:00 -0000 (Tue, 21 Oct 2025) EndedAt: 2025-10-21 03:11:43 -0000 (Tue, 21 Oct 2025) EllapsedTime: 43.0 seconds RetCode: 0 Status: OK PackageFile: SIM_1.79.0.tar.gz PackageFileSize: 451.6 KiB