Package: SIM Version: 1.79.0 Command: F:\biocbuild\bbs-3.22-bioc\R\bin\R.exe CMD check --no-multiarch --install=check:SIM.install-out.txt --library=F:\biocbuild\bbs-3.22-bioc\R\library --no-vignettes --timings SIM_1.79.0.tar.gz StartedAt: 2025-08-15 07:55:29 -0400 (Fri, 15 Aug 2025) EndedAt: 2025-08-15 07:58:20 -0400 (Fri, 15 Aug 2025) EllapsedTime: 171.2 seconds RetCode: 0 Status: WARNINGS CheckDir: SIM.Rcheck Warnings: 1