Package: SIM Version: 1.79.0 Command: /home/biocbuild/bbs-3.22-bioc/R/bin/R CMD INSTALL SIM StartedAt: 2025-10-20 15:28:13 -0400 (Mon, 20 Oct 2025) EndedAt: 2025-10-20 15:28:31 -0400 (Mon, 20 Oct 2025) EllapsedTime: 18.1 seconds RetCode: 0 Status: OK