Package: SIM Version: 1.79.0 Command: /home/biocbuild/bbs-3.22-bioc/R/bin/R CMD check --install=check:SIM.install-out.txt --library=/home/biocbuild/bbs-3.22-bioc/R/site-library --timings SIM_1.79.0.tar.gz StartedAt: 2025-10-21 04:44:08 -0400 (Tue, 21 Oct 2025) EndedAt: 2025-10-21 04:46:36 -0400 (Tue, 21 Oct 2025) EllapsedTime: 148.1 seconds RetCode: 0 Status: WARNINGS CheckDir: SIM.Rcheck Warnings: 1