Package: SIM Version: 1.79.0 Command: /Library/Frameworks/R.framework/Resources/bin/R CMD check --install=check:SIM.install-out.txt --library=/Library/Frameworks/R.framework/Resources/library --no-vignettes --timings SIM_1.79.0.tar.gz StartedAt: 2025-10-22 22:04:18 -0400 (Wed, 22 Oct 2025) EndedAt: 2025-10-22 22:05:11 -0400 (Wed, 22 Oct 2025) EllapsedTime: 52.7 seconds RetCode: 0 Status: WARNINGS CheckDir: SIM.Rcheck Warnings: 1